BEGIN:VCALENDAR
VERSION:2.0
PRODID:-//ChamberMaster//Event Calendar 2.0//EN
METHOD:PUBLISH
X-PUBLISHED-TTL:P1H
REFRESH-INTERVAL:P1H
CALSCALE:GREGORIAN
BEGIN:VTIMEZONE
TZID:America/New_York
BEGIN:DAYLIGHT
RRULE:FREQ=YEARLY;BYMONTH=3;BYDAY=2SU
DTSTART:20070101T000000
TZOFFSETFROM:-0500
TZOFFSETTO:-0400
TZNAME:Eastern Daylight Time
END:DAYLIGHT
BEGIN:STANDARD
RRULE:FREQ=YEARLY;BYMONTH=11;BYDAY=1SU
DTSTART:20070101T000000
TZOFFSETFROM:-0400
TZOFFSETTO:-0500
TZNAME:Eastern Standard Time
END:STANDARD
END:VTIMEZONE
BEGIN:VEVENT
DTSTART;TZID=America/New_York:20260430T170000
DTEND;TZID=America/New_York:20260430T190000
X-MICROSOFT-CDO-ALLDAYEVENT:FALSE
SUMMARY:Season Launch Party & Brochure Exchange
DESCRIPTION:Kick off the 2026 tourism season with an immersive\, high-energy showcase of everything that makes Schuyler County a must-visit destination.Join us for a lively\, interactive afternoon where local businesses bring their offerings to life featuring tastings\, experiences\, and hands-on moments that reflect the very best of our region. Enjoy live music\, explore the community\, and connect with fellow tourism partners in a setting designed to inspire collaboration and spark new ideas for the season ahead.What to Expect:🎶 Live music and entertainment\n🍷 Tastings\, samples\, and interactive experiences from local businesses\n🤝 Meaningful connections with fellow tourism and business professionals\n📖 Brochure Exchange (exhibitor registration required)Whether you're a business owner\, tourism partner\, or community stakeholder\, this is your opportunity to experience Schuyler the way our visitors do and get ready for a successful season ahead.Free to attend!
X-ALT-DESC;FMTTYPE=text/html:<!DOCTYPE html><html><head><title></title></head><body aria-disabled="false" spellcheck="false"><p data-end="355" data-start="216">Kick off the 2026 tourism season with an immersive\, high-energy showcase of everything that makes Schuyler County a must-visit destination.</p><p data-end="720" data-start="357">Join us for a lively\, interactive afternoon where local businesses bring their offerings to life&mdash\;featuring tastings\, experiences\, and hands-on moments that reflect the very best of our region. Enjoy live music\, explore the community\, and connect with fellow tourism partners in a setting designed to inspire collaboration and spark new ideas for the season ahead.</p><h3 data-end="745" data-section-id="17803gy" data-start="722"><strong data-end="745" data-start="726" fr-original-style="" style="font-weight: 700\;">What to Expect:</strong></h3><p data-end="983" data-start="746">🎶 Live music and entertainment<br data-start="777" data-end="780">🍷 Tastings\, samples\, and interactive experiences from local businesses<br data-start="851" data-end="854">🤝 Meaningful connections with fellow tourism and business professionals<br data-start="926" data-end="929">📖 Brochure Exchange <strong fr-original-style="" style="font-weight: 700\;">(exhibitor registration required)</strong></p><p data-end="1181" data-start="985">Whether you&rsquo\;re a business owner\, tourism partner\, or community stakeholder\, this is your opportunity to <strong data-end="1136" data-start="1089" fr-original-style="" style="font-weight: 700\;">experience Schuyler the way our visitors do</strong>&mdash\;and get ready for a successful season ahead.</p><p data-end="1250" data-start="1183"><strong data-end="1250" data-start="1183" fr-original-style="" style="font-weight: 700\;">Free to attend!</strong></p></body></html>
LOCATION:214 North Franklin Street Watkins Glen NY 14850
UID:e.3623.1321510
SEQUENCE:3
DTSTAMP:20260425T105144Z
URL:https://business.explorewatkinsglen.com/chambercalendar/Details/season-launch-party-brochure-exchange-1549776?sourceTypeId=Hub
END:VEVENT
END:VCALENDAR
